BEGIN:VCALENDAR
VERSION:2.0
PRODID:icalendar-ruby
CALSCALE:GREGORIAN
METHOD:PUBLISH
BEGIN:VEVENT
DTSTAMP:20260420T180143Z
UID:98-1207759@campbellsvillebaptist.tithelysetup5.com
DTSTART:20260920T161500Z
DTEND:20260920T171500Z
CLASS:PUBLIC
CREATED:20260420T100952
DESCRIPTION:CLC Class Room
LAST-MODIFIED:20260420T100952
LOCATION:
SUMMARY:College Sunday School Grow Group
URL;VALUE=URI:https://www.campbellsvillebaptistchurch.com/events/college-su
 nday-school-grow-group/2026-09-20
ATTACH;FILENAME=College-Sunday-school.png;FMTTYPE=image/png:https://dq5pwpg
 1q8ru0.cloudfront.net/2025/08/01/13/46/44/916a4b65-65f6-40ee-8509-4d0ef128
 b3bf/College-Sunday-school.png
END:VEVENT
END:VCALENDAR
